BEGIN:VCALENDAR
VERSION:2.0
PRODID:-//De Zelfspot - ECPv6.15.20//NONSGML v1.0//EN
CALSCALE:GREGORIAN
METHOD:PUBLISH
X-ORIGINAL-URL:https://www.dezelfspot.nl
X-WR-CALDESC:Events for De Zelfspot
REFRESH-INTERVAL;VALUE=DURATION:PT1H
X-Robots-Tag:noindex
X-PUBLISHED-TTL:PT1H
BEGIN:VTIMEZONE
TZID:Europe/Amsterdam
BEGIN:DAYLIGHT
TZOFFSETFROM:+0100
TZOFFSETTO:+0200
TZNAME:CEST
DTSTART:20240331T010000
END:DAYLIGHT
BEGIN:STANDARD
TZOFFSETFROM:+0200
TZOFFSETTO:+0100
TZNAME:CET
DTSTART:20241027T010000
END:STANDARD
BEGIN:DAYLIGHT
TZOFFSETFROM:+0100
TZOFFSETTO:+0200
TZNAME:CEST
DTSTART:20250330T010000
END:DAYLIGHT
BEGIN:STANDARD
TZOFFSETFROM:+0200
TZOFFSETTO:+0100
TZNAME:CET
DTSTART:20251026T010000
END:STANDARD
BEGIN:DAYLIGHT
TZOFFSETFROM:+0100
TZOFFSETTO:+0200
TZNAME:CEST
DTSTART:20260329T010000
END:DAYLIGHT
BEGIN:STANDARD
TZOFFSETFROM:+0200
TZOFFSETTO:+0100
TZNAME:CET
DTSTART:20261025T010000
END:STANDARD
END:VTIMEZONE
BEGIN:VEVENT
DTSTART;TZID=Europe/Amsterdam:20251010T130000
DTEND;TZID=Europe/Amsterdam:20251010T153000
DTSTAMP:20260422T120453
CREATED:20250826T091558Z
LAST-MODIFIED:20250930T065908Z
UID:10004105-1760101200-1760110200@www.dezelfspot.nl
SUMMARY:Create your own jewelry wax workshop!
DESCRIPTION:Hi! Ik ben Romy Claus\, goudsmid\, vers van de vakschool Schoonhoven. Ik heb sinds kort mijn eigen atelier in Den Haag waar ik werk aan persoonlijke opdrachten\, reparaties en aan mijn eigen werk. \nOp 10 oktober geef ik de aller eerste editie van “maak je eigen sieraad uit was” van 13:00 toot 15:30 bij De Zelfspot! Hierin zal ik de basis technieken van het was bewerken uitleggen en gaan we samen experimenteren en onze eigen ontwerpen creëren! \nVoor €70\,- krijg je een drie uur durende workshop was bewerken\, waarin ik je als goudsmid\, de tips en tricks van het was bewerken zal leren. Waarin je helemaal los kunt gaan op je gekste ideeën en met je eigen design naar huis gaat! En dat allemaal onder het genot van een Goud bakkie! \nIs je creatie nu een succes\, wat het sowieso wordt! Dan kan ik hem letterlijk voor je verzilveren! Dit kost een extra €30\,- voor het gieten + €3\,50 per gram aan zilver. \nMeld je nu aan door een mail te sturen naar atelierkraft97@gmail.com met je naam en telefoon nummer. \nZin in! Tot de 10de! 🙂 \nLiefs Romy \nHi I’m Romy\, Goldsmith\, fresh from the vakschool Schoonhoven. I just started my own atelier\, where I work on very personal orders\, repairs and my own work. \nOn the 10th of oktober I will organise the first edition of “make your own jewellry out of wax\, from 13:00 til 15:30 at De Zelfspot. I will explain you all the basics of wax carving and we will experiment and create our own design! \nFor €70\,– you get a three hour workshop of wax carving\, where I\, as a goldsmith\, will teach you the tips and tricks of wax carving. Go crazy on ideas and end up with your own personal designed piece of jewellry\, including a golden cuppa coffee! \nWhen your creation is a succes\, which it will be! I can cast it for you! This will cost you €30\,- for the casting proces + €3\,50 per gram for the Silver. \nEnrol now by sending an email to atelierkraft97@gmail.com including your name and phone number. \nI’m looking forward Seeing you on the 10th! 🙂 \nLove\,\nRomy
URL:https://www.dezelfspot.nl/event/create-your-own-wax-jewelry-workshop/
LOCATION:De Zelfspot\, Badhuisstraat 198\, The Hague\, Zuid Holland\, 2584 HM\, Netherlands
ATTACH;FMTTYPE=image/jpeg:https://www.dezelfspot.nl/wp-content/uploads/2025/08/Outlook-vl5k5f5w.jpg
ORGANIZER;CN="Romy Claus":MAILTO:atelierkraft97@gmail.com
END:VEVENT
END:VCALENDAR