BEGIN:VCALENDAR
VERSION:2.0
PRODID:-//De Zelfspot - ECPv6.15.20//NONSGML v1.0//EN
CALSCALE:GREGORIAN
METHOD:PUBLISH
X-ORIGINAL-URL:https://www.dezelfspot.nl
X-WR-CALDESC:Events for De Zelfspot
REFRESH-INTERVAL;VALUE=DURATION:PT1H
X-Robots-Tag:noindex
X-PUBLISHED-TTL:PT1H
BEGIN:VTIMEZONE
TZID:Europe/Amsterdam
BEGIN:DAYLIGHT
TZOFFSETFROM:+0100
TZOFFSETTO:+0200
TZNAME:CEST
DTSTART:20230326T010000
END:DAYLIGHT
BEGIN:STANDARD
TZOFFSETFROM:+0200
TZOFFSETTO:+0100
TZNAME:CET
DTSTART:20231029T010000
END:STANDARD
BEGIN:DAYLIGHT
TZOFFSETFROM:+0100
TZOFFSETTO:+0200
TZNAME:CEST
DTSTART:20240331T010000
END:DAYLIGHT
BEGIN:STANDARD
TZOFFSETFROM:+0200
TZOFFSETTO:+0100
TZNAME:CET
DTSTART:20241027T010000
END:STANDARD
BEGIN:DAYLIGHT
TZOFFSETFROM:+0100
TZOFFSETTO:+0200
TZNAME:CEST
DTSTART:20250330T010000
END:DAYLIGHT
BEGIN:STANDARD
TZOFFSETFROM:+0200
TZOFFSETTO:+0100
TZNAME:CET
DTSTART:20251026T010000
END:STANDARD
BEGIN:DAYLIGHT
TZOFFSETFROM:+0100
TZOFFSETTO:+0200
TZNAME:CEST
DTSTART:20260329T010000
END:DAYLIGHT
BEGIN:STANDARD
TZOFFSETFROM:+0200
TZOFFSETTO:+0100
TZNAME:CET
DTSTART:20261025T010000
END:STANDARD
END:VTIMEZONE
BEGIN:VEVENT
DTSTART;TZID=Europe/Amsterdam:20250406T110000
DTEND;TZID=Europe/Amsterdam:20250406T120000
DTSTAMP:20260423T102616
CREATED:20250204T160015Z
LAST-MODIFIED:20250205T113611Z
UID:10003296-1743937200-1743940800@www.dezelfspot.nl
SUMMARY:Flow into Spring - Vinyasa Yoga Flow with Julie
DESCRIPTION:With Vinyasa yoga you’ll flow smoothly from one pose to the next\, synching your movements with your breath.\nDiscover how these flowing movements and mindful breathing will help you build strength and energy\, while calming both your mind and body. \nAbout Julie\nJulie is an enthusiastic and energetic certified Vinyasa yoga teacher\, at the start of her teaching journey\, with 6 years of consistent personal practice in (Hot and Power) Vinyasa. Eager to explore new opportunities and gain teaching experience while sharing her passion for yoga with others. \nDate: Sunday April 6th\nTime: 11am – 12pm\nCost: €10\,- per class (it is possible to book just one class) \nWant to join?\nSend a Whatsapp message to +31623091358
URL:https://www.dezelfspot.nl/event/yoga-warming-winter-flow-with-julie-2/
LOCATION:De Zelfspot\, Badhuisstraat 198\, The Hague\, Zuid Holland\, 2584 HM\, Netherlands
ATTACH;FMTTYPE=image/jpeg:https://www.dezelfspot.nl/wp-content/uploads/2024/11/AR34165-scaled.jpg
ORGANIZER;CN="Julie Kuip%C3%A9ri":MAILTO:julie_kuiperi@hotmail.com
END:VEVENT
BEGIN:VEVENT
DTSTART;TZID=Europe/Amsterdam:20250223T110000
DTEND;TZID=Europe/Amsterdam:20250223T120000
DTSTAMP:20260423T102616
CREATED:20250209T163314Z
LAST-MODIFIED:20250209T163406Z
UID:10003392-1740308400-1740312000@www.dezelfspot.nl
SUMMARY:Warming Winter Flow - Vinyasa Yoga with Julie
DESCRIPTION:With Vinyasa yoga you’ll flow smoothly from one pose to the next\, synching your movements with your breath.\nDiscover how these flowing movements and mindful breathing will help you build strength and energy\, while calming both your mind and body. \nAbout Julie\nJulie is an enthusiastic and energetic certified Vinyasa yoga teacher\, at the start of her teaching journey\, with 6 years of consistent personal practice in (Hot and Power) Vinyasa. Eager to explore new opportunities and gain teaching experience while sharing her passion for yoga with others. \nDate: Sunday Februari 23\nTime: 11am – 12pm\nCost: €10\,- per class (it is possible to book just one class) \nWant to join?\nSend a Whatsapp message to +31623091358
URL:https://www.dezelfspot.nl/event/warming-winter-flow-vinyasa-yoga-with-julie/
LOCATION:De Zelfspot\, Badhuisstraat 198\, The Hague\, Zuid Holland\, 2584 HM\, Netherlands
ATTACH;FMTTYPE=image/jpeg:https://www.dezelfspot.nl/wp-content/uploads/2024/11/AR34165-scaled.jpg
ORGANIZER;CN="Julie Kuip%C3%A9ri":MAILTO:julie_kuiperi@hotmail.com
END:VEVENT
BEGIN:VEVENT
DTSTART;TZID=Europe/Amsterdam:20250112T110000
DTEND;TZID=Europe/Amsterdam:20250112T120000
DTSTAMP:20260423T102616
CREATED:20241114T103852Z
LAST-MODIFIED:20250204T155514Z
UID:10003295-1736679600-1736683200@www.dezelfspot.nl
SUMMARY:Flow into Spring - Vinyasa Yoga Flow with Julie
DESCRIPTION:With Vinyasa yoga you’ll flow smoothly from one pose to the next\, synching your movements with your breath.\nDiscover how these flowing movements and mindful breathing will help you build strength and energy\, while calming both your mind and body. \nAbout Julie\nJulie is an enthusiastic and energetic certified Vinyasa yoga teacher\, at the start of her teaching journey\, with 6 years of consistent personal practice in (Hot and Power) Vinyasa. Eager to explore new opportunities and gain teaching experience while sharing her passion for yoga with others. \nDate: April 9\nTime: 11am – 12pm\nCost: €10\,- per class (it is possible to book just one class) \nWant to join?\nSend a Whatsapp message to +31623091358
URL:https://www.dezelfspot.nl/event/yoga-warming-winter-flow-with-julie/2025-01-12/
LOCATION:De Zelfspot\, Badhuisstraat 198\, The Hague\, Zuid Holland\, 2584 HM\, Netherlands
ATTACH;FMTTYPE=image/jpeg:https://www.dezelfspot.nl/wp-content/uploads/2024/11/AR34165-scaled.jpg
ORGANIZER;CN="Julie Kuip%C3%A9ri":MAILTO:julie_kuiperi@hotmail.com
END:VEVENT
BEGIN:VEVENT
DTSTART;TZID=Europe/Amsterdam:20241222T110000
DTEND;TZID=Europe/Amsterdam:20241222T120000
DTSTAMP:20260423T102616
CREATED:20241114T103852Z
LAST-MODIFIED:20250204T155514Z
UID:10003294-1734865200-1734868800@www.dezelfspot.nl
SUMMARY:Flow into Spring - Vinyasa Yoga Flow with Julie
DESCRIPTION:With Vinyasa yoga you’ll flow smoothly from one pose to the next\, synching your movements with your breath.\nDiscover how these flowing movements and mindful breathing will help you build strength and energy\, while calming both your mind and body. \nAbout Julie\nJulie is an enthusiastic and energetic certified Vinyasa yoga teacher\, at the start of her teaching journey\, with 6 years of consistent personal practice in (Hot and Power) Vinyasa. Eager to explore new opportunities and gain teaching experience while sharing her passion for yoga with others. \nDate: April 9\nTime: 11am – 12pm\nCost: €10\,- per class (it is possible to book just one class) \nWant to join?\nSend a Whatsapp message to +31623091358
URL:https://www.dezelfspot.nl/event/yoga-warming-winter-flow-with-julie/2024-12-22/
LOCATION:De Zelfspot\, Badhuisstraat 198\, The Hague\, Zuid Holland\, 2584 HM\, Netherlands
ATTACH;FMTTYPE=image/jpeg:https://www.dezelfspot.nl/wp-content/uploads/2024/11/AR34165-scaled.jpg
ORGANIZER;CN="Julie Kuip%C3%A9ri":MAILTO:julie_kuiperi@hotmail.com
END:VEVENT
BEGIN:VEVENT
DTSTART;TZID=Europe/Amsterdam:20241124T110000
DTEND;TZID=Europe/Amsterdam:20241124T120000
DTSTAMP:20260423T102616
CREATED:20241114T103852Z
LAST-MODIFIED:20250204T155514Z
UID:10003293-1732446000-1732449600@www.dezelfspot.nl
SUMMARY:Flow into Spring - Vinyasa Yoga Flow with Julie
DESCRIPTION:With Vinyasa yoga you’ll flow smoothly from one pose to the next\, synching your movements with your breath.\nDiscover how these flowing movements and mindful breathing will help you build strength and energy\, while calming both your mind and body. \nAbout Julie\nJulie is an enthusiastic and energetic certified Vinyasa yoga teacher\, at the start of her teaching journey\, with 6 years of consistent personal practice in (Hot and Power) Vinyasa. Eager to explore new opportunities and gain teaching experience while sharing her passion for yoga with others. \nDate: April 9\nTime: 11am – 12pm\nCost: €10\,- per class (it is possible to book just one class) \nWant to join?\nSend a Whatsapp message to +31623091358
URL:https://www.dezelfspot.nl/event/yoga-warming-winter-flow-with-julie/2024-11-24/
LOCATION:De Zelfspot\, Badhuisstraat 198\, The Hague\, Zuid Holland\, 2584 HM\, Netherlands
ATTACH;FMTTYPE=image/jpeg:https://www.dezelfspot.nl/wp-content/uploads/2024/11/AR34165-scaled.jpg
ORGANIZER;CN="Julie Kuip%C3%A9ri":MAILTO:julie_kuiperi@hotmail.com
END:VEVENT
END:VCALENDAR