BEGIN:VCALENDAR
VERSION:2.0
PRODID:-//De Zelfspot - ECPv6.15.20//NONSGML v1.0//EN
CALSCALE:GREGORIAN
METHOD:PUBLISH
X-WR-CALNAME:De Zelfspot
X-ORIGINAL-URL:https://www.dezelfspot.nl
X-WR-CALDESC:Events for De Zelfspot
REFRESH-INTERVAL;VALUE=DURATION:PT1H
X-Robots-Tag:noindex
X-PUBLISHED-TTL:PT1H
BEGIN:VTIMEZONE
TZID:Europe/Amsterdam
BEGIN:DAYLIGHT
TZOFFSETFROM:+0100
TZOFFSETTO:+0200
TZNAME:CEST
DTSTART:20220327T010000
END:DAYLIGHT
BEGIN:STANDARD
TZOFFSETFROM:+0200
TZOFFSETTO:+0100
TZNAME:CET
DTSTART:20221030T010000
END:STANDARD
BEGIN:DAYLIGHT
TZOFFSETFROM:+0100
TZOFFSETTO:+0200
TZNAME:CEST
DTSTART:20230326T010000
END:DAYLIGHT
BEGIN:STANDARD
TZOFFSETFROM:+0200
TZOFFSETTO:+0100
TZNAME:CET
DTSTART:20231029T010000
END:STANDARD
BEGIN:DAYLIGHT
TZOFFSETFROM:+0100
TZOFFSETTO:+0200
TZNAME:CEST
DTSTART:20240331T010000
END:DAYLIGHT
BEGIN:STANDARD
TZOFFSETFROM:+0200
TZOFFSETTO:+0100
TZNAME:CET
DTSTART:20241027T010000
END:STANDARD
END:VTIMEZONE
BEGIN:VEVENT
DTSTART;TZID=Europe/Amsterdam:20231214T140000
DTEND;TZID=Europe/Amsterdam:20231214T150000
DTSTAMP:20260420T000931
CREATED:20231127T141313Z
LAST-MODIFIED:20231129T092524Z
UID:10000270-1702562400-1702566000@www.dezelfspot.nl
SUMMARY:Ho’oponopono ceremonie
DESCRIPTION:Ho’oponopono is een eeuwenoude Hawaiiaanse methode om problemen op te lossen. In vroeger tijden trad een Kahuna\, een wijze vrouw\, op als bemiddelaar. Je kunt het een ritueel noemen\, een ceremonie\,  een gebedsdienst of een techniek. \nMet Ho’oponopono kan je werken aan je eigen (psychische) genezing. Het effect is meer harmonie en vreugde en dit heeft een helende uitwerking op  al het leven op deze planeet\, want we zijn allen verbonden. \nHo’oponopono is een proces van het loslaten van  blokkades\, van negatieve energie en het toelaten van helpende gedachten\, woorden en daden. Je kunt alles wat op je pad komt  zuiveren. \nAnja Schaafsma begeleidt jou in deze workshop bij De Zelfspot in situaties die op dit moment in je leven actueel zijn. \nWanneer: donderdag 14 december van 14:00 tot 15:00 uur\nKosten: 10\,-\nAanmelden: stuur een mailtje naar Anja om je aan te melden \nKijk ook op https://www.sophiaspirit.nl/ voor meer informatie over Anja en haar aanbod aan sessies.
URL:https://www.dezelfspot.nl/event/hooponopono-ceremonie/
LOCATION:De Zelfspot\, Badhuisstraat 198\, The Hague\, Zuid Holland\, 2584 HM\, Netherlands
ATTACH;FMTTYPE=image/jpeg:https://www.dezelfspot.nl/wp-content/uploads/2023/11/hoponopono-2-1.jpg
ORGANIZER;CN="Anja Schaafsma":MAILTO:schaafanja@gmail.com
END:VEVENT
BEGIN:VEVENT
DTSTART;TZID=Europe/Amsterdam:20231122T193000
DTEND;TZID=Europe/Amsterdam:20231122T220000
DTSTAMP:20260420T000931
CREATED:20231110T163326Z
LAST-MODIFIED:20231110T170941Z
UID:10000266-1700681400-1700690400@www.dezelfspot.nl
SUMMARY:The BreathFluencer Experience
DESCRIPTION:Influence your breath.\nImprove your life. \nEen diepgaande ademervaring waarin je weer herinnert dat je precies goed bent.\nKim (adem) auteur\, docent\, trainer\, mentor begeleidt je met aandacht\, liefde en ervaring.
URL:https://www.dezelfspot.nl/event/the-breathfluencer-experience/
LOCATION:De Zelfspot\, Badhuisstraat 198\, The Hague\, Zuid Holland\, 2584 HM\, Netherlands
ATTACH;FMTTYPE=image/jpeg:https://www.dezelfspot.nl/wp-content/uploads/2023/11/12nov2021_6024-In-bad-met-Vol-magazine-lachend.jpeg
ORGANIZER;CN="Kim Padding":MAILTO:smile@n-ice.world
END:VEVENT
BEGIN:VEVENT
DTSTART;VALUE=DATE:20231118
DTEND;VALUE=DATE:20231119
DTSTAMP:20260420T000931
CREATED:20231107T165745Z
LAST-MODIFIED:20231107T170224Z
UID:10000265-1700265600-1700351999@www.dezelfspot.nl
SUMMARY:OPENING De Zelfspot
DESCRIPTION:Zaterdag18 november is het zo ver: de opening van De Zelfspot!\nNa maanden hard werken en een flinke dosis geduld is het tijd voor een feestje. \nEn jij bent van harte uitgenodigd. \nDe studio staat boordevol met activiteiten en de leukste barista’s van Den Haag staan voor je klaar met de lekkerste koffie\, gebak en lunch. \nKom je de dag lekker starten met een fijne ochtendmeditatie en een SHAKE THE DUST les? Met aansluitend natuurlijk een lekker bakkie. \nOf kom jij eerst voor een dat koffietje en sluit je aan bij een van de creatieve workshops? \nIn de koffiebar is er gedurende de dag regelmatig live muziek van Ramon Potter\, misschien ken je hem wel van de podcast aflevering ‘Het zwaard van Ramon’. \nWe sluiten af met een gezellige silent disco! \n\nProgramma in de studio:\n09:15 – 09:45 Ochtendmeditatie met Romy \n10:00 – 11:00 Shake the dust: Yoga/HIIT/fusion met Zoë \n12:00 – 13:00 Schilderen met koffie met Emily \n13:30 – 14:30 Kennismaking intuïtief tekenen met Myrtle \n15:00 – 16:00 Shake the dust: Yoga/HIIT/fusion met Zoë \n16:15 – sluit Silent disco party \n  \nVoor deze speciale dag zijn alle activiteiten gratis. \nJe kan gewoon gezellig binnenlopen en je naam op de lijst zetten\, maar houd er rekening mee dat er beperkt aantal plekken zijn. Vol = vol. \nWil je zeker zijn van een plekje bij een les of workshop? Stuur dan een mailtje naar info@dezelfspot.nl met je voornaam\, achternaam en de activiteit(en) (max 2 activiteiten per persoon). \nVoor de silent disco hoef je je natuurlijk niet op te geven. We gaan 18 november om 09:00 open. Deel het\, zeg het voort en neem je vrienden mee. \nWij hebben er zin in! \nGroetjes\,\nTeam van De Zelfspot
URL:https://www.dezelfspot.nl/event/de-zelfspot-opening/
LOCATION:De Zelfspot\, Badhuisstraat 198\, The Hague\, Zuid Holland\, 2584 HM\, Netherlands
ATTACH;FMTTYPE=image/jpeg:https://www.dezelfspot.nl/wp-content/uploads/2023/07/20230615_105147-scaled.jpg
ORGANIZER;CN="De Zelfspot":MAILTO:info@dezelfspot.nl
END:VEVENT
END:VCALENDAR